BEGIN:VCALENDAR
VERSION:2.0
PRODID:-//AFSCME Local 1215 - ECPv6.15.20//NONSGML v1.0//EN
CALSCALE:GREGORIAN
METHOD:PUBLISH
X-WR-CALNAME:AFSCME Local 1215
X-ORIGINAL-URL:https://www.afscmelocal1215.org
X-WR-CALDESC:Events for AFSCME Local 1215
REFRESH-INTERVAL;VALUE=DURATION:PT1H
X-Robots-Tag:noindex
X-PUBLISHED-TTL:PT1H
BEGIN:VTIMEZONE
TZID:America/Chicago
BEGIN:DAYLIGHT
TZOFFSETFROM:-0600
TZOFFSETTO:-0500
TZNAME:CDT
DTSTART:20240310T080000
END:DAYLIGHT
BEGIN:STANDARD
TZOFFSETFROM:-0500
TZOFFSETTO:-0600
TZNAME:CST
DTSTART:20241103T070000
END:STANDARD
BEGIN:DAYLIGHT
TZOFFSETFROM:-0600
TZOFFSETTO:-0500
TZNAME:CDT
DTSTART:20250309T080000
END:DAYLIGHT
BEGIN:STANDARD
TZOFFSETFROM:-0500
TZOFFSETTO:-0600
TZNAME:CST
DTSTART:20251102T070000
END:STANDARD
BEGIN:DAYLIGHT
TZOFFSETFROM:-0600
TZOFFSETTO:-0500
TZNAME:CDT
DTSTART:20260308T080000
END:DAYLIGHT
BEGIN:STANDARD
TZOFFSETFROM:-0500
TZOFFSETTO:-0600
TZNAME:CST
DTSTART:20261101T070000
END:STANDARD
END:VTIMEZONE
BEGIN:VEVENT
DTSTART;TZID=America/Chicago:20251012T093000
DTEND;TZID=America/Chicago:20251012T113000
DTSTAMP:20260422T110638
CREATED:20250921T161455Z
LAST-MODIFIED:20250924T004941Z
UID:4108-1760261400-1760268600@www.afscmelocal1215.org
SUMMARY:Union Coffee Break - In Person
DESCRIPTION:On the second Sunday of the month\, meet your Local e-board members and stewards for coffee and share your questions and concerns. Enjoy one free coffee or treat while funding lasts. In October\, come to Pedestrian Coffee at 939 W Belmont Ave to meet union members who work or live in district 2.
URL:https://www.afscmelocal1215.org/event/union-coffee-break-in-person-4/
LOCATION:IL
CATEGORIES:Calendar
END:VEVENT
BEGIN:VEVENT
DTSTART;TZID=America/Chicago:20251019T100000
DTEND;TZID=America/Chicago:20251019T110000
DTSTAMP:20260422T110638
CREATED:20250921T153138Z
LAST-MODIFIED:20250921T153138Z
UID:4101-1760868000-1760871600@www.afscmelocal1215.org
SUMMARY:Union Coffee Break - Online
DESCRIPTION:On the third Sunday of each month\, meet your Local e-board members and stewards for an online coffee hangout\, and share your questions and concerns. Please register to receive the Zoom link.
URL:https://www.afscmelocal1215.org/event/union-coffee-break-online-4/
LOCATION:IL
CATEGORIES:Calendar
END:VEVENT
BEGIN:VEVENT
DTSTART;TZID=America/Chicago:20251024T190000
DTEND;TZID=America/Chicago:20251024T210000
DTSTAMP:20260422T110638
CREATED:20250217T175615Z
LAST-MODIFIED:20250217T175615Z
UID:3945-1761332400-1761339600@www.afscmelocal1215.org
SUMMARY:October 24 membership meeting - AFSCME Local 1215
DESCRIPTION:Where: 205 N. Michigan Ave.\, 21st Floor\, and on Zoom\nWhen: Friday\, October 24\, food ~6:30 PM\, meeting starting at 7:00 PM Central \nThe Friday\, October 24 membership meeting will be held in a hybrid format\, online on Zoom and at 205 N. Michigan on the 21st floor. \nTo attend in person\, please bring a photo ID and check in with the 205/225 N. Michigan security desk to obtain a pass to the 21st floor. \nPlease consider masking to protect the health of your union siblings\, and PLEASE attend via Zoom rather than in-person if experiencing symptoms of COVID-19\, cold\, flu\, or other contagious illness.\n \nHow to Attend by Zoom: \nRegistration is required. Please provide a personal phone number if you’ll be accessing the Zoom audio by phone or to connect to the meeting by phone. \nTo have personal pronouns reflected in your participant name\, please include them in the registration field for last name\, like this: Lastname (pronoun/pronoun) \nYour registration will be reviewed against the Local’s membership list before it’s approved. Non-members will be directed to sign up electronically before their registration is confirmed\, at https://afscme31.org/become-afscme-member \nIf you are a member who has not received a message confirming your Zoom registration by 6 p.m. on the day of the membership meeting\, please email the local at afscme.local1215@gmail.com.
URL:https://www.afscmelocal1215.org/event/october-24-membership-meeting-afscme-local-1215/
LOCATION:AFSCME 31 HQ\, 205 N Michigan Ave. Suite 2100\, Chicago\, IL\, 60601\, United States
CATEGORIES:Calendar,Member Meeting
END:VEVENT
BEGIN:VEVENT
DTSTART;TZID=America/Chicago:20251029T193000
DTEND;TZID=America/Chicago:20251029T203000
DTSTAMP:20260422T110638
CREATED:20251026T235904Z
LAST-MODIFIED:20251027T024348Z
UID:4220-1761766200-1761769800@www.afscmelocal1215.org
SUMMARY:Budget Season Organizing MAT huddle - Online
DESCRIPTION:MAT team\, check your email for the Zoom link and reach out if you would like to join us!
URL:https://www.afscmelocal1215.org/event/budget-season-organizing-mat-huddle/
LOCATION:IL
CATEGORIES:Calendar
END:VEVENT
BEGIN:VEVENT
DTSTART;TZID=America/Chicago:20251030T183000
DTEND;TZID=America/Chicago:20251030T193000
DTSTAMP:20260422T110638
CREATED:20251027T031120Z
LAST-MODIFIED:20251027T031621Z
UID:4246-1761849000-1761852600@www.afscmelocal1215.org
SUMMARY:Sign-Making for Budget Rally - In-person
DESCRIPTION:Meet up with Local 1215 members to make signs ahead of Tuesday\, Nov. 4th’s CPL budget hearing rally at City Hall! Sign-making stuff provided or bring your own. \nRSVP for Rally here: https://forms.gle/rtxK2CRH8YMS8wiV9
URL:https://www.afscmelocal1215.org/event/sign-making-for-budget-rally-in-person/
LOCATION:IL
END:VEVENT
END:VCALENDAR