BEGIN:VCALENDAR
VERSION:2.0
PRODID:-//AFSCME Local 1215 - ECPv6.15.20//NONSGML v1.0//EN
CALSCALE:GREGORIAN
METHOD:PUBLISH
X-WR-CALNAME:AFSCME Local 1215
X-ORIGINAL-URL:https://www.afscmelocal1215.org
X-WR-CALDESC:Events for AFSCME Local 1215
REFRESH-INTERVAL;VALUE=DURATION:PT1H
X-Robots-Tag:noindex
X-PUBLISHED-TTL:PT1H
BEGIN:VTIMEZONE
TZID:America/Chicago
BEGIN:DAYLIGHT
TZOFFSETFROM:-0600
TZOFFSETTO:-0500
TZNAME:CDT
DTSTART:20240310T080000
END:DAYLIGHT
BEGIN:STANDARD
TZOFFSETFROM:-0500
TZOFFSETTO:-0600
TZNAME:CST
DTSTART:20241103T070000
END:STANDARD
BEGIN:DAYLIGHT
TZOFFSETFROM:-0600
TZOFFSETTO:-0500
TZNAME:CDT
DTSTART:20250309T080000
END:DAYLIGHT
BEGIN:STANDARD
TZOFFSETFROM:-0500
TZOFFSETTO:-0600
TZNAME:CST
DTSTART:20251102T070000
END:STANDARD
BEGIN:DAYLIGHT
TZOFFSETFROM:-0600
TZOFFSETTO:-0500
TZNAME:CDT
DTSTART:20260308T080000
END:DAYLIGHT
BEGIN:STANDARD
TZOFFSETFROM:-0500
TZOFFSETTO:-0600
TZNAME:CST
DTSTART:20261101T070000
END:STANDARD
BEGIN:DAYLIGHT
TZOFFSETFROM:-0600
TZOFFSETTO:-0500
TZNAME:CDT
DTSTART:20270314T080000
END:DAYLIGHT
BEGIN:STANDARD
TZOFFSETFROM:-0500
TZOFFSETTO:-0600
TZNAME:CST
DTSTART:20271107T070000
END:STANDARD
END:VTIMEZONE
BEGIN:VEVENT
DTSTART;TZID=America/Chicago:20251204T090000
DTEND;TZID=America/Chicago:20251204T110000
DTSTAMP:20260421T182925
CREATED:20251130T080635Z
LAST-MODIFIED:20251130T235752Z
UID:4368-1764838800-1764846000@www.afscmelocal1215.org
SUMMARY:Local 1215 @ City Hall (Finance Committee Meeting)
DESCRIPTION:As City Council is set to propose alternatives for the 2026 City budget\, Local 1215 members  will sign up for public comment to advocate for a budget that does not cut the library. Let’s make our voices heard throughout the budget process! \nThe Finance Committee will meet Thursday\, December 4th @ 10:00 a.m. \nSupporters are welcome to join and wear AFSCME green in support! \nSigns and backpacks are not allowed in City Hall. Enter through LaSalle entrance and expect to go through security/metal detectors. \n\nWritten Public Comment Deadline: December 3\, 2025\, 10:00 a.m.\n\nCommitteeonfinance@cityofchicago.org\n\n\nSpeakers arrive at 9:00 a.m. to sign up
URL:https://www.afscmelocal1215.org/event/local-1215-city-hall-finance-committee-meeting/
LOCATION:City Hall\, 121 North LaSalle\, Chicago\, IL\, 60602\, United States
CATEGORIES:Calendar
END:VEVENT
BEGIN:VEVENT
DTSTART;TZID=America/Chicago:20251208T090000
DTEND;TZID=America/Chicago:20251208T110000
DTSTAMP:20260421T182925
CREATED:20251130T081255Z
LAST-MODIFIED:20251205T203009Z
UID:4372-1765184400-1765191600@www.afscmelocal1215.org
SUMMARY:CANCELLED: Local 1215 @ City Hall (Finance Committee Meeting)
DESCRIPTION:The December 8 meeting has been cancelled by City Council.
URL:https://www.afscmelocal1215.org/event/local-1215-city-hall-finance-committee-meeting-2/
LOCATION:City Hall\, 121 North LaSalle\, Chicago\, IL\, 60602\, United States
CATEGORIES:Calendar
END:VEVENT
BEGIN:VEVENT
DTSTART;TZID=America/Chicago:20251210T090000
DTEND;TZID=America/Chicago:20251210T110000
DTSTAMP:20260421T182925
CREATED:20251130T081644Z
LAST-MODIFIED:20251207T182123Z
UID:4374-1765357200-1765364400@www.afscmelocal1215.org
SUMMARY:Local 1215 @ City Hall (City Council Meeting)
DESCRIPTION:City Council is set to propose and vote on alternatives for the 2026 City budget\, Local 1215 members  will sign up for public comment to advocate for a budget that does not cut the library. Let’s make our voices heard throughout the budget process!\n\n\nCity Council will meet Wednesday\, December 10th @ 10:00 a.m. \nSupporters are welcome to join and wear AFSCME green in support! \nRestrictions: Signs and backpacks are not allowed in City Council chambers. Enter through LaSalle entrance and expect to go through security/metal detectors. \n\nSpeakers arrive at 9:00 a.m. to sign up for public comment.
URL:https://www.afscmelocal1215.org/event/local-1215-city-hall-finance-committee-meeting-3/
LOCATION:City Hall\, 121 North LaSalle\, Chicago\, IL\, 60602\, United States
CATEGORIES:Calendar
END:VEVENT
BEGIN:VEVENT
DTSTART;TZID=America/Chicago:20251214T093000
DTEND;TZID=America/Chicago:20251214T113000
DTSTAMP:20260421T182925
CREATED:20250921T162537Z
LAST-MODIFIED:20251130T031201Z
UID:4113-1765704600-1765711800@www.afscmelocal1215.org
SUMMARY:Union Coffee Break - In Person
DESCRIPTION:On the second Sunday of the month\, meet your Local e-board members and stewards for coffee and share your questions and concerns. Enjoy one free coffee or treat while funding lasts. In December\, come to Oud Coffee at 714 N Wells to meet union members who work or live in HWLC’s district.
URL:https://www.afscmelocal1215.org/event/union-coffee-break-in-person-6/
LOCATION:IL
CATEGORIES:Calendar
END:VEVENT
BEGIN:VEVENT
DTSTART;TZID=America/Chicago:20251215T090000
DTEND;TZID=America/Chicago:20251215T110000
DTSTAMP:20260421T182925
CREATED:20251213T004347Z
LAST-MODIFIED:20251213T022345Z
UID:4398-1765789200-1765796400@www.afscmelocal1215.org
SUMMARY:Stand with Local 1215 @ City Hall
DESCRIPTION:Stand with Local 1215 @ City Hall! Urge councilmembers to fully fund the library!\n \nMeeting begins at 10 a.m. \nSigning up for Public comment? Recommended arrival @ 9 a.m. \nMeet inside the LaSalle St. entrance at 9 a.m. Wear your AFSCME green! 👕 \n***Restrictions: No backpacks or signs/posters allowed in City Council chambers. Be prepared to go through metal detector.*** \n\nThe City of Chicago 2026 budget has still not been passed. Library workers and supporters have been writing to elected officials\, calling and meeting with their alders\, and showing up to city hall to rally and give public comment in support of a fully funded library!! \nThis is the last push — a budget is due by December 31\, 2025. Council has set 7 meetings before the Christmas holiday. We want presence + comment at each one. Can you join for one or more? \n\nMonday\, 12/15 @ 10 a.m.\nTuesday\, 12/16 @ 10 a.m. and 11 a.m. (Finance Committee)\nWednesday\, 12/17 @ 10 a.m. and 2 p.m. (Budget Committee)\nThursday\, 12/18 @ 10 a.m.\nTuesday\, 12/23 @ 10 a.m.\n\n\nCity hall entrance on ground floor. ADA doors. Elevator to 2nd floor. ADA bathrooms.\nRSVP: https://actionnetwork.org/events/stand-with-local-1215-city-hall/ 
URL:https://www.afscmelocal1215.org/event/stand-with-local-1215-city-council-budget-meetings/
LOCATION:City Hall\, 121 North LaSalle\, Chicago\, IL\, 60602\, United States
CATEGORIES:Calendar
END:VEVENT
BEGIN:VEVENT
DTSTART;TZID=America/Chicago:20251216T090000
DTEND;TZID=America/Chicago:20251216T110000
DTSTAMP:20260421T182925
CREATED:20251213T023142Z
LAST-MODIFIED:20251215T035648Z
UID:4402-1765875600-1765882800@www.afscmelocal1215.org
SUMMARY:Stand with Local 1215 @ City Hall (Council)
DESCRIPTION:Stand with Local 1215 @ City Hall! Urge councilmembers to fully fund the library!\n \nMeeting begins at 10 a.m. \nSigning up for Public comment? Recommended arrival @ 9 a.m. \nMeet inside the LaSalle St. entrance at 9 a.m. Wear your AFSCME green! 👕 \nFor phone comment: \n\nCall (312) 744-6800 and leave a voice message with your name and telephone number. \nCall between 12:01 AM on Monday\, 12/15 8:00 AM on Monday\, 12/15. \nAny individual wishing to participate must be available at 10:00 AM on the day of the meeting and have access to a touch-tone telephone. \n\n***Restrictions: No backpacks or signs/posters allowed in City Council chambers. Be prepared to go through metal detector.*** \n\nThe City of Chicago 2026 budget has still not been passed. Library workers and supporters have been writing to elected officials\, calling and meeting with their alders\, and showing up to city hall to rally and give public comment in support of a fully funded library!! \nThis is the last push — a budget is due by December 31\, 2025. Council has set 7 meetings before the Christmas holiday. We want presence + comment at each one. Can you join for one or more? \n\nMonday\, 12/15 @ 10 a.m.\nTuesday\, 12/16 @ 10 a.m. and 11 a.m. (Finance Committee)\nWednesday\, 12/17 @ 10 a.m. and 2 p.m. (Budget Committee)\nThursday\, 12/18 @ 10 a.m.\nTuesday\, 12/23 @ 10 a.m.\n\n\nCity hall entrance on ground floor. ADA doors. Elevator to 2nd floor. ADA bathrooms.\nRSVP: https://actionnetwork.org/events/stand-with-local-1215-city-hall-2/ 
URL:https://www.afscmelocal1215.org/event/stand-with-local-1215-city-hall/
LOCATION:City Hall\, 121 North LaSalle\, Chicago\, IL\, 60602\, United States
CATEGORIES:Calendar
END:VEVENT
BEGIN:VEVENT
DTSTART;TZID=America/Chicago:20251216T103000
DTEND;TZID=America/Chicago:20251216T120000
DTSTAMP:20260421T182925
CREATED:20251213T033131Z
LAST-MODIFIED:20251215T044655Z
UID:4406-1765881000-1765886400@www.afscmelocal1215.org
SUMMARY:Stand with Local 1215 @ City Hall (Finance)
DESCRIPTION:Stand with Local 1215 @ City Hall! Urge councilmembers to fully fund the library!\n \nMeeting begins at 11 a.m. \nSigning up for Public comment? Recommended arrival @ 10 a.m. (Not sure if public comment will be allowed.) Submit written public comment via Committeeonfinance@cityofchicago.org before 11 a.m. on Dec. 15\, 2025. \nWear your AFSCME green! 👕 \n***Restrictions: No backpacks or signs/posters allowed in City Council chambers. Be prepared to go through metal detector.*** \nFor phone comment: \n\nCall (312) 744-6800 and leave a voice message with your name and telephone number.\nCall between 12:01 AM on Monday\, 12/15 8:00 AM on Monday\, 12/15.\nAny individual wishing to participate must be available at 11:00 AM on the day of the meeting and have access to a touch-tone telephone.\n\n\nThe City of Chicago 2026 budget has still not been passed. Library workers and supporters have been writing to elected officials\, calling and meeting with their alders\, and showing up to city hall to rally and give public comment in support of a fully funded library!! \nThis is the last push — a budget is due by December 31\, 2025. Council has set 7 meetings before the Christmas holiday. We want presence + comment at each one. Can you join for one or more? \n\nMonday\, 12/15 @ 10 a.m.\nTuesday\, 12/16 @ 10 a.m. and 11 a.m. (Finance Committee)\nWednesday\, 12/17 @ 10 a.m. and 2 p.m. (Budget Committee)\nThursday\, 12/18 @ 10 a.m.\nTuesday\, 12/23 @ 10 a.m.\n\n\nCity hall entrance on ground floor. ADA doors. Elevator to 2nd floor. ADA bathrooms.\n\nRSVP: https://actionnetwork.org/events/stand-with-local-1215-city-hall-dec-16-finance/
URL:https://www.afscmelocal1215.org/event/stand-with-local-1215-city-hall-finance/
LOCATION:City Hall\, 121 North LaSalle\, Chicago\, IL\, 60602\, United States
CATEGORIES:Calendar
END:VEVENT
BEGIN:VEVENT
DTSTART;TZID=America/Chicago:20251217T090000
DTEND;TZID=America/Chicago:20251217T110000
DTSTAMP:20260421T182925
CREATED:20251213T033858Z
LAST-MODIFIED:20251215T035832Z
UID:4409-1765962000-1765969200@www.afscmelocal1215.org
SUMMARY:Stand with Local 1215 @ City Hall (Council)
DESCRIPTION:Stand with Local 1215 @ City Hall! Urge councilmembers to fully fund the library!\n \nMeeting begins at 10 a.m. \nSigning up for Public comment? Recommended arrival @ 9 a.m. \nMeet inside the LaSalle St. entrance at 9 a.m. Wear your AFSCME green! 👕 \n***Restrictions: No backpacks or signs/posters allowed in City Council chambers. Be prepared to go through metal detector.*** \nFor phone comment: \n\nCall (312) 744-6800 and leave a voice message with your name and telephone number.\nCall between 12:01 AM on Monday\, 12/15 8:00 AM on Tuesday 12/16.\nAny individual wishing to participate must be available at 10:00 AM on the day of the meeting and have access to a touch-tone telephone.\n\n\nThe City of Chicago 2026 budget has still not been passed. Library workers and supporters have been writing to elected officials\, calling and meeting with their alders\, and showing up to city hall to rally and give public comment in support of a fully funded library!! \nThis is the last push — a budget is due by December 31\, 2025. Council has set 7 meetings before the Christmas holiday. We want presence + comment at each one. Can you join for one or more? \n\nMonday\, 12/15 @ 10 a.m.\nTuesday\, 12/16 @ 10 a.m. and 11 a.m. (Finance Committee)\nWednesday\, 12/17 @ 10 a.m. and 2 p.m. (Budget Committee)\nThursday\, 12/18 @ 10 a.m.\nTuesday\, 12/23 @ 10 a.m.\n\n\nCity hall entrance on ground floor. ADA doors. Elevator to 2nd floor. ADA bathrooms.\n\nRSVP: https://actionnetwork.org/events/stand-with-local-1215-city-hall-dec-17/
URL:https://www.afscmelocal1215.org/event/stand-with-local-1215-city-hall-council/
LOCATION:City Hall\, 121 North LaSalle\, Chicago\, IL\, 60602\, United States
CATEGORIES:Calendar
END:VEVENT
BEGIN:VEVENT
DTSTART;TZID=America/Chicago:20251217T133000
DTEND;TZID=America/Chicago:20251217T150000
DTSTAMP:20260421T182925
CREATED:20251213T035613Z
LAST-MODIFIED:20251215T042909Z
UID:4411-1765978200-1765983600@www.afscmelocal1215.org
SUMMARY:Stand with Local 1215 @ City Hall (Budget)
DESCRIPTION:Stand with Local 1215 @ City Hall! Urge councilmembers to fully fund the library!\n \nMeeting begins at 2 p.m. \nSigning up for Public comment? Recommended arrival @ 1 p.m. Submit written comment via CommiteeontheBudgetandGovernmentOperations@cityofchicago.org before 9:00 am on Dec. 16\, 2025. \nWear your AFSCME green! 👕 \n***Restrictions: No backpacks or signs/posters allowed in City Council chambers. Be prepared to go through metal detector.*** \nFor phone comment: \n\nCall (312) 744-6800 and leave a voice message with your name and telephone number.\nCall between 12:01 AM on Monday\, 12/15 8:00 AM on Tuesday 12/16.\nAny individual wishing to participate must be available at 2 PM on the day of the meeting and have access to a touch-tone telephone.\n\n\nThe City of Chicago 2026 budget has still not been passed. Library workers and supporters have been writing to elected officials\, calling and meeting with their alders\, and showing up to city hall to rally and give public comment in support of a fully funded library!! \nThis is the last push — a budget is due by December 31\, 2025. Council has set 7 meetings before the Christmas holiday. We want presence + comment at each one. Can you join for one or more? \n\nMonday\, 12/15 @ 10 a.m.\nTuesday\, 12/16 @ 10 a.m. and 11 a.m. (Finance Committee)\nWednesday\, 12/17 @ 10 a.m. and 2 p.m. (Budget Committee)\nThursday\, 12/18 @ 10 a.m.\nTuesday\, 12/23 @ 10 a.m.\n\n\nCity hall entrance on ground floor. ADA doors. Elevator to 2nd floor. ADA bathrooms.\n\nRSVP: https://actionnetwork.org/events/stand-with-local-1215-city-hall-dec-17-budget/
URL:https://www.afscmelocal1215.org/event/stand-with-local-1215-city-hall-budget/
LOCATION:City Hall\, 121 North LaSalle\, Chicago\, IL\, 60602\, United States
CATEGORIES:Calendar
END:VEVENT
BEGIN:VEVENT
DTSTART;TZID=America/Chicago:20251218T090000
DTEND;TZID=America/Chicago:20251218T110000
DTSTAMP:20260421T182925
CREATED:20251213T040333Z
LAST-MODIFIED:20251215T042255Z
UID:4413-1766048400-1766055600@www.afscmelocal1215.org
SUMMARY:Stand with Local 1215 @ City Hall
DESCRIPTION:Stand with Local 1215 @ City Hall! Urge councilmembers to fully fund the library!\n \nMeeting begins at 10 a.m. \nSigning up for Public comment? Recommended arrival @ 9 a.m. \nWear your AFSCME green! 👕 \n***Restrictions: No backpacks or signs/posters allowed in City Council chambers. Be prepared to go through metal detector.*** \n\nFor phone comment: \n\nCall (312) 744-6800 and leave a voice message with your name and telephone number.\nCall between 12:01 AM on Monday\, 12/15 8:00 AM on Wednesday\, 12/17.\nAny individual wishing to participate must be available at 10:00 AM on the day of the meeting and have access to a touch-tone telephone.\n\n\n\nThe City of Chicago 2026 budget has still not been passed. Library workers and supporters have been writing to elected officials\, calling and meeting with their alders\, and showing up to city hall to rally and give public comment in support of a fully funded library!! \nThis is the last push — a budget is due by December 31\, 2025. Council has set 7 meetings before the Christmas holiday. We want presence + comment at each one. Can you join for one or more? \n\nMonday\, 12/15 @ 10 a.m.\nTuesday\, 12/16 @ 10 a.m. and 11 a.m. (Finance Committee)\nWednesday\, 12/17 @ 10 a.m. and 2 p.m. (Budget Committee)\nThursday\, 12/18 @ 10 a.m.\nTuesday\, 12/23 @ 10 a.m.\n\n\nCity hall entrance on ground floor. ADA doors. Elevator to 2nd floor. ADA bathrooms.\n\nRSVP: https://actionnetwork.org/events/stand-with-local-1215-city-hall-dec-18/
URL:https://www.afscmelocal1215.org/event/stand-with-local-1215-city-hall-2/
LOCATION:City Hall\, 121 North LaSalle\, Chicago\, IL\, 60602\, United States
CATEGORIES:Calendar
END:VEVENT
BEGIN:VEVENT
DTSTART;TZID=America/Chicago:20251219T190000
DTEND;TZID=America/Chicago:20251219T210000
DTSTAMP:20260421T182925
CREATED:20250217T175559Z
LAST-MODIFIED:20251201T000235Z
UID:3949-1766170800-1766178000@www.afscmelocal1215.org
SUMMARY:[Virtual Only] December 19 membership meeting - AFSCME Local 1215
DESCRIPTION:Where: 205 N. Michigan Ave.\, 21st Floor\, and on Zoom\nWhen: Friday\, December 19\, food ~6:30 PM\, meeting starting at 7:00 PM Central \nThe Friday\, December 19 membership meeting will be held in a hybrid format\, online on Zoom and at 205 N. Michigan on the 21st floor. \nTo attend in person\, please bring a photo ID and check in with the 205/225 N. Michigan security desk to obtain a pass to the 21st floor. \nPlease consider masking to protect the health of your union siblings\, and PLEASE attend via Zoom rather than in-person if experiencing symptoms of COVID-19\, cold\, flu\, or other contagious illness.\n \nHow to Attend by Zoom: \nRegistration is required. Please provide a personal phone number if you’ll be accessing the Zoom audio by phone or to connect to the meeting by phone. \nTo have personal pronouns reflected in your participant name\, please include them in the registration field for last name\, like this: Lastname (pronoun/pronoun) \nYour registration will be reviewed against the Local’s membership list before it’s approved. Non-members will be directed to sign up electronically before their registration is confirmed\, at https://afscme31.org/become-afscme-member \nIf you are a member who has not received a message confirming your Zoom registration by 6 p.m. on the day of the membership meeting\, please email the local at afscme.local1215@gmail.com.
URL:https://www.afscmelocal1215.org/event/december-19-membership-meeting-afscme-local-1215/
LOCATION:IL
CATEGORIES:Calendar,Member Meeting
END:VEVENT
BEGIN:VEVENT
DTSTART;TZID=America/Chicago:20251221T100000
DTEND;TZID=America/Chicago:20251221T110000
DTSTAMP:20260421T182925
CREATED:20250921T153403Z
LAST-MODIFIED:20250921T153403Z
UID:4106-1766311200-1766314800@www.afscmelocal1215.org
SUMMARY:Union Coffee Break - Online
DESCRIPTION:On the third Sunday of each month\, meet your Local e-board members and stewards for an online coffee hangout\, and share your questions and concerns. Please register to receive the Zoom link.
URL:https://www.afscmelocal1215.org/event/union-coffee-break-online-6/
LOCATION:IL
CATEGORIES:Calendar
END:VEVENT
BEGIN:VEVENT
DTSTART;TZID=America/Chicago:20251223T090000
DTEND;TZID=America/Chicago:20251223T110000
DTSTAMP:20260421T182925
CREATED:20251213T040805Z
LAST-MODIFIED:20251215T041737Z
UID:4415-1766480400-1766487600@www.afscmelocal1215.org
SUMMARY:Stand with Local 1215 @ City Hall
DESCRIPTION:Stand with Local 1215 @ City Hall! Urge councilmembers to fully fund the library!\n \nMeeting begins at 10 a.m. \nSigning up for Public comment? Recommended arrival @ 9 a.m. \nWear your AFSCME green! 👕 \n***Restrictions: No backpacks or signs/posters allowed in City Council chambers. Be prepared to go through metal detector.*** \nFor phone comment: \n\nCall (312) 744-6800 and leave a voice message with your name and telephone number.\nCall between 12:01 AM on Monday\, 12/22 8:00 AM and Monday\, 12/22.\nAny individual wishing to participate must be available at 10:00 AM on the day of the meeting and have access to a touch-tone telephone.\n\n\nThe City of Chicago 2026 budget has still not been passed. Library workers and supporters have been writing to elected officials\, calling and meeting with their alders\, and showing up to city hall to rally and give public comment in support of a fully funded library!! \nThis is the last push — a budget is due by December 31\, 2025. Council has set 7 meetings before the Christmas holiday. We want presence + comment at each one. Can you join for one or more? \n\nMonday\, 12/15 @ 10 a.m.\nTuesday\, 12/16 @ 10 a.m. and 11 a.m. (Finance Committee)\nWednesday\, 12/17 @ 10 a.m. and 2 p.m. (Budget Committee)\nThursday\, 12/18 @ 10 a.m.\nTuesday\, 12/23 @ 10 a.m.\n\n\nCity hall entrance on ground floor. ADA doors. Elevator to 2nd floor. ADA bathrooms.\n\nRSVP: https://actionnetwork.org/events/stand-with-local-1215-city-hall-dec-23/
URL:https://www.afscmelocal1215.org/event/stand-with-local-1215-city-hall-3/
LOCATION:City Hall\, 121 North LaSalle\, Chicago\, IL\, 60602\, United States
CATEGORIES:Calendar
END:VEVENT
BEGIN:VEVENT
DTSTART;TZID=America/Chicago:20260119T183000
DTEND;TZID=America/Chicago:20260119T200000
DTSTAMP:20260421T182925
CREATED:20251214T170425Z
LAST-MODIFIED:20251214T170425Z
UID:4418-1768847400-1768852800@www.afscmelocal1215.org
SUMMARY:[Virtual] Member Engagement Committee - Meeting
DESCRIPTION:It’s 2026! Want to be more involved in your union? This is a great time to join. \nAt this meeting\, we will review what has worked (and not) over the past year in the realm of Member Engagement\, and talk about plans/ideas for 2026. \nCo-chairs Emma + Diana attended Membership Chair training and will share out. \nThis meeting will be held virtually via Zoom. Link + Agenda will be shared with folks who have signed up for Member Engagement Committee (MEC) emails. \nSign up to receive meeting link: https://bit.ly/1215MECsignup
URL:https://www.afscmelocal1215.org/event/virtual-member-engagement-committee-meeting/
LOCATION:IL
CATEGORIES:Calendar
END:VEVENT
BEGIN:VEVENT
DTSTART;TZID=America/Chicago:20260208T093000
DTEND;TZID=America/Chicago:20260208T113000
DTSTAMP:20260421T182925
CREATED:20260131T223938Z
LAST-MODIFIED:20260131T223938Z
UID:4440-1770543000-1770550200@www.afscmelocal1215.org
SUMMARY:Union Coffee Break
DESCRIPTION:On the second Sunday of each month\, meet your Local e-board and stewards for a coffee hangout. Share your questions and concerns and meet other members! Get one free coffee or treat on the union\, while funds last. On February 8\, we will meet at Dulce Mami Cafe in District 5.
URL:https://www.afscmelocal1215.org/event/coffee-break-feb-2026/
LOCATION:Dulce Mami Cafe\, 2559 W 51st Street\, Chicago\, IL\, 60632\, United States
CATEGORIES:Calendar
END:VEVENT
BEGIN:VEVENT
DTSTART;TZID=America/Chicago:20260217T180000
DTEND;TZID=America/Chicago:20260217T210000
DTSTAMP:20260421T182925
CREATED:20260131T224530Z
LAST-MODIFIED:20260131T224530Z
UID:4445-1771351200-1771362000@www.afscmelocal1215.org
SUMMARY:Union Happy Hour
DESCRIPTION:Once per quarter\, meet your Local e-board\, stewards and fellow members at happy hour! Share your questions and concerns and connect with your colleagues. The Local will cover $20 per person\, so you can get one very fancy drink or multiple cheaper options. Funds for happy hours only cover current\, dues-paying union members. On February 17\, we will meet at Bokeh.
URL:https://www.afscmelocal1215.org/event/union-happy-hour/
LOCATION:Bokeh\, 4716 N Kedzie Avene\, Chicago\, IL\, 60625\, United States
CATEGORIES:Calendar
END:VEVENT
BEGIN:VEVENT
DTSTART;TZID=America/Chicago:20260308T093000
DTEND;TZID=America/Chicago:20260308T113000
DTSTAMP:20260421T182925
CREATED:20260301T010223Z
LAST-MODIFIED:20260301T010223Z
UID:4467-1772962200-1772969400@www.afscmelocal1215.org
SUMMARY:Union Coffee Break
DESCRIPTION:On the second Sunday of each month\, meet your Local e-board and stewards for a coffee hangout. Share your questions and concerns and meet other members! Get one free coffee or treat on the union\, while funds last. On March 8\, we will meet at Sip & Savor Hyde Park in District 4.
URL:https://www.afscmelocal1215.org/event/union-coffee-break/
LOCATION:Sip and Savor Hyde Park\, 5301 S Hyde Park Blvd\, Chicago\, IL\, 60615\, United States
CATEGORIES:Calendar
END:VEVENT
END:VCALENDAR