BEGIN:VCALENDAR
VERSION:2.0
PRODID:-//AFSCME Local 1215 - ECPv6.15.20//NONSGML v1.0//EN
CALSCALE:GREGORIAN
METHOD:PUBLISH
X-ORIGINAL-URL:https://www.afscmelocal1215.org
X-WR-CALDESC:Events for AFSCME Local 1215
REFRESH-INTERVAL;VALUE=DURATION:PT1H
X-Robots-Tag:noindex
X-PUBLISHED-TTL:PT1H
BEGIN:VTIMEZONE
TZID:America/Chicago
BEGIN:DAYLIGHT
TZOFFSETFROM:-0600
TZOFFSETTO:-0500
TZNAME:CDT
DTSTART:20240310T080000
END:DAYLIGHT
BEGIN:STANDARD
TZOFFSETFROM:-0500
TZOFFSETTO:-0600
TZNAME:CST
DTSTART:20241103T070000
END:STANDARD
BEGIN:DAYLIGHT
TZOFFSETFROM:-0600
TZOFFSETTO:-0500
TZNAME:CDT
DTSTART:20250309T080000
END:DAYLIGHT
BEGIN:STANDARD
TZOFFSETFROM:-0500
TZOFFSETTO:-0600
TZNAME:CST
DTSTART:20251102T070000
END:STANDARD
BEGIN:DAYLIGHT
TZOFFSETFROM:-0600
TZOFFSETTO:-0500
TZNAME:CDT
DTSTART:20260308T080000
END:DAYLIGHT
BEGIN:STANDARD
TZOFFSETFROM:-0500
TZOFFSETTO:-0600
TZNAME:CST
DTSTART:20261101T070000
END:STANDARD
END:VTIMEZONE
BEGIN:VEVENT
DTSTART;TZID=America/Chicago:20251116T100000
DTEND;TZID=America/Chicago:20251116T110000
DTSTAMP:20260422T110731
CREATED:20250921T153253Z
LAST-MODIFIED:20251115T211231Z
UID:4104-1763287200-1763290800@www.afscmelocal1215.org
SUMMARY:Union Coffee Break - Online
DESCRIPTION:On the third Sunday of each month\, meet your Local e-board members and stewards for an online coffee hangout\, and share your questions and concerns. Please register to receive the Zoom link. \nIn November\, we will have an Immigrant Rights Defense Working Group session.
URL:https://www.afscmelocal1215.org/event/union-coffee-break-online-5/
LOCATION:IL
CATEGORIES:Calendar
END:VEVENT
END:VCALENDAR